BEGIN:VCALENDAR
VERSION:2.0
PRODID:-//OGV Arheilgen - ECPv6.15.20//NONSGML v1.0//EN
CALSCALE:GREGORIAN
METHOD:PUBLISH
X-WR-CALNAME:OGV Arheilgen
X-ORIGINAL-URL:https://www.ogv-arheilgen.de
X-WR-CALDESC:Veranstaltungen für OGV Arheilgen
REFRESH-INTERVAL;VALUE=DURATION:PT1H
X-Robots-Tag:noindex
X-PUBLISHED-TTL:PT1H
BEGIN:VTIMEZONE
TZID:Europe/Berlin
BEGIN:DAYLIGHT
TZOFFSETFROM:+0100
TZOFFSETTO:+0200
TZNAME:CEST
DTSTART:20240331T010000
END:DAYLIGHT
BEGIN:STANDARD
TZOFFSETFROM:+0200
TZOFFSETTO:+0100
TZNAME:CET
DTSTART:20241027T010000
END:STANDARD
BEGIN:DAYLIGHT
TZOFFSETFROM:+0100
TZOFFSETTO:+0200
TZNAME:CEST
DTSTART:20250330T010000
END:DAYLIGHT
BEGIN:STANDARD
TZOFFSETFROM:+0200
TZOFFSETTO:+0100
TZNAME:CET
DTSTART:20251026T010000
END:STANDARD
BEGIN:DAYLIGHT
TZOFFSETFROM:+0100
TZOFFSETTO:+0200
TZNAME:CEST
DTSTART:20260329T010000
END:DAYLIGHT
BEGIN:STANDARD
TZOFFSETFROM:+0200
TZOFFSETTO:+0100
TZNAME:CET
DTSTART:20261025T010000
END:STANDARD
END:VTIMEZONE
BEGIN:VEVENT
DTSTART;TZID=Europe/Berlin:20250803T140000
DTEND;TZID=Europe/Berlin:20250803T160000
DTSTAMP:20260421T130736
CREATED:20250503T085130Z
LAST-MODIFIED:20250503T085130Z
UID:2620-1754229600-1754236800@www.ogv-arheilgen.de
SUMMARY:OGV Mitgliederversammlung
DESCRIPTION:Offizielle Einladung an Mitglieder folgt.
URL:https://www.ogv-arheilgen.de/veranstaltungen/ogv-mitgliederversammlung
CATEGORIES:Veranstaltungen
END:VEVENT
END:VCALENDAR