BEGIN:VCALENDAR
VERSION:2.0
PRODID:-//OGV Arheilgen - ECPv6.15.20//NONSGML v1.0//EN
CALSCALE:GREGORIAN
METHOD:PUBLISH
X-WR-CALNAME:OGV Arheilgen
X-ORIGINAL-URL:https://www.ogv-arheilgen.de
X-WR-CALDESC:Veranstaltungen für OGV Arheilgen
REFRESH-INTERVAL;VALUE=DURATION:PT1H
X-Robots-Tag:noindex
X-PUBLISHED-TTL:PT1H
BEGIN:VTIMEZONE
TZID:Europe/Berlin
BEGIN:DAYLIGHT
TZOFFSETFROM:+0100
TZOFFSETTO:+0200
TZNAME:CEST
DTSTART:20240331T010000
END:DAYLIGHT
BEGIN:STANDARD
TZOFFSETFROM:+0200
TZOFFSETTO:+0100
TZNAME:CET
DTSTART:20241027T010000
END:STANDARD
BEGIN:DAYLIGHT
TZOFFSETFROM:+0100
TZOFFSETTO:+0200
TZNAME:CEST
DTSTART:20250330T010000
END:DAYLIGHT
BEGIN:STANDARD
TZOFFSETFROM:+0200
TZOFFSETTO:+0100
TZNAME:CET
DTSTART:20251026T010000
END:STANDARD
BEGIN:DAYLIGHT
TZOFFSETFROM:+0100
TZOFFSETTO:+0200
TZNAME:CEST
DTSTART:20260329T010000
END:DAYLIGHT
BEGIN:STANDARD
TZOFFSETFROM:+0200
TZOFFSETTO:+0100
TZNAME:CET
DTSTART:20261025T010000
END:STANDARD
END:VTIMEZONE
BEGIN:VEVENT
DTSTART;TZID=Europe/Berlin:20250803T140000
DTEND;TZID=Europe/Berlin:20250803T160000
DTSTAMP:20260421T115122
CREATED:20250503T085130Z
LAST-MODIFIED:20250503T085130Z
UID:2620-1754229600-1754236800@www.ogv-arheilgen.de
SUMMARY:OGV Mitgliederversammlung
DESCRIPTION:Offizielle Einladung an Mitglieder folgt.
URL:https://www.ogv-arheilgen.de/veranstaltungen/ogv-mitgliederversammlung
CATEGORIES:Veranstaltungen
END:VEVENT
BEGIN:VEVENT
DTSTART;TZID=Europe/Berlin:20250810T110000
DTEND;TZID=Europe/Berlin:20250810T180000
DTSTAMP:20260421T115122
CREATED:20250503T085254Z
LAST-MODIFIED:20250623T163821Z
UID:2622-1754823600-1754848800@www.ogv-arheilgen.de
SUMMARY:OGV Grill-Fest
DESCRIPTION: 
URL:https://www.ogv-arheilgen.de/veranstaltungen/ogv-grill-fest
CATEGORIES:Veranstaltungen
END:VEVENT
BEGIN:VEVENT
DTSTART;TZID=Europe/Berlin:20250816T140000
DTEND;TZID=Europe/Berlin:20250816T160000
DTSTAMP:20260421T115122
CREATED:20250503T085507Z
LAST-MODIFIED:20250503T085547Z
UID:2624-1755352800-1755360000@www.ogv-arheilgen.de
SUMMARY:Sommerschnitt Lehrgang
DESCRIPTION:In diesem Jahr wird der Obst -und Gartenbauverein Arheilgen zusätzlich zum Winterschnitt Lehrgang einen Sommerschnitt Lehrgang anbieten.
URL:https://www.ogv-arheilgen.de/veranstaltungen/sommerschnitt-lehrgang
CATEGORIES:Veranstaltungen
END:VEVENT
END:VCALENDAR